BEGIN:VCALENDAR
VERSION:2.0
PRODID:icalendar-ruby
CALSCALE:GREGORIAN
METHOD:PUBLISH
BEGIN:VEVENT
DTSTAMP:20260423T140747Z
UID:132-588941@gracebaptistcanton.com
DTSTART;VALUE=DATE:20260614
DTEND;VALUE=DATE:20260618
CLASS:PUBLIC
CREATED:20260422T160259
DESCRIPTION:
LAST-MODIFIED:20260422T160259
LOCATION:
SUMMARY:VBS 2026
URL;VALUE=URI:https://gracebaptistcanton.com/events/vbs-2026/2026-06-14
ATTACH;FILENAME=2026-VBS.jpg;FMTTYPE=image/jpeg:https://dq5pwpg1q8ru0.cloud
 front.net/2026/04/22/20/02/59/1202942c-9f9a-4b05-9efe-6872c79ef6e0/2026-VB
 S.jpg
END:VEVENT
END:VCALENDAR
